BEGIN:VCALENDAR
VERSION:2.0
PRODID:-//Skiclub Petzen - ECPv6.15.20//NONSGML v1.0//EN
CALSCALE:GREGORIAN
METHOD:PUBLISH
X-WR-CALNAME:Skiclub Petzen
X-ORIGINAL-URL:https://sc-petzen.at
X-WR-CALDESC:Veranstaltungen für Skiclub Petzen
REFRESH-INTERVAL;VALUE=DURATION:PT1H
X-Robots-Tag:noindex
X-PUBLISHED-TTL:PT1H
BEGIN:VTIMEZONE
TZID:Europe/Berlin
BEGIN:DAYLIGHT
TZOFFSETFROM:+0100
TZOFFSETTO:+0200
TZNAME:CEST
DTSTART:20240331T010000
END:DAYLIGHT
BEGIN:STANDARD
TZOFFSETFROM:+0200
TZOFFSETTO:+0100
TZNAME:CET
DTSTART:20241027T010000
END:STANDARD
BEGIN:DAYLIGHT
TZOFFSETFROM:+0100
TZOFFSETTO:+0200
TZNAME:CEST
DTSTART:20250330T010000
END:DAYLIGHT
BEGIN:STANDARD
TZOFFSETFROM:+0200
TZOFFSETTO:+0100
TZNAME:CET
DTSTART:20251026T010000
END:STANDARD
BEGIN:DAYLIGHT
TZOFFSETFROM:+0100
TZOFFSETTO:+0200
TZNAME:CEST
DTSTART:20260329T010000
END:DAYLIGHT
BEGIN:STANDARD
TZOFFSETFROM:+0200
TZOFFSETTO:+0100
TZNAME:CET
DTSTART:20261025T010000
END:STANDARD
END:VTIMEZONE
BEGIN:VEVENT
DTSTART;VALUE=DATE:20250105
DTEND;VALUE=DATE:20250106
DTSTAMP:20260422T130606
CREATED:20241024T074907Z
LAST-MODIFIED:20241025T065609Z
UID:1036-1736035200-1736121599@sc-petzen.at
SUMMARY:2. Unterkärntner RZ Pellets Nachwuchscup - 1. Rennen
DESCRIPTION:
URL:https://sc-petzen.at/event/2-unterkaerntner-rz-pellets-nachwuchscup-2-rennen/
END:VEVENT
BEGIN:VEVENT
DTSTART;VALUE=DATE:20250111
DTEND;VALUE=DATE:20250112
DTSTAMP:20260422T130606
CREATED:20250111T113146Z
LAST-MODIFIED:20250111T113146Z
UID:1114-1736553600-1736639999@sc-petzen.at
SUMMARY:Schüler Landescup SL
DESCRIPTION:
URL:https://sc-petzen.at/event/schueler-landescup-sl/
LOCATION:Siebenhütten
END:VEVENT
BEGIN:VEVENT
DTSTART;VALUE=DATE:20250119
DTEND;VALUE=DATE:20250120
DTSTAMP:20260422T130606
CREATED:20240218T135455Z
LAST-MODIFIED:20240218T135455Z
UID:977-1737244800-1737331199@sc-petzen.at
SUMMARY:Grafensteiner Gemeindereenen
DESCRIPTION:
URL:https://sc-petzen.at/event/grafensteiner-gemeindereenen/
END:VEVENT
BEGIN:VEVENT
DTSTART;VALUE=DATE:20250125
DTEND;VALUE=DATE:20250126
DTSTAMP:20260422T130606
CREATED:20240924T180834Z
LAST-MODIFIED:20240924T180834Z
UID:1029-1737763200-1737849599@sc-petzen.at
SUMMARY:Kinder Landescup SL
DESCRIPTION: 
URL:https://sc-petzen.at/event/kinder-landescup-sl/
END:VEVENT
BEGIN:VEVENT
DTSTART;VALUE=DATE:20250126
DTEND;VALUE=DATE:20250127
DTSTAMP:20260422T130606
CREATED:20240819T094838Z
LAST-MODIFIED:20240819T094838Z
UID:1022-1737849600-1737935999@sc-petzen.at
SUMMARY:Familienstkitag Petzen - rennfrei!
DESCRIPTION:
URL:https://sc-petzen.at/event/familienstkitag-petzen-rennfrei/
END:VEVENT
END:VCALENDAR